BEGIN:VCALENDAR
VERSION:2.0
PRODID:-//American Legion Post 139 - ECPv6.15.20//NONSGML v1.0//EN
CALSCALE:GREGORIAN
METHOD:PUBLISH
X-WR-CALNAME:American Legion Post 139
X-ORIGINAL-URL:https://arlpost139.com
X-WR-CALDESC:Events for American Legion Post 139
REFRESH-INTERVAL;VALUE=DURATION:PT1H
X-Robots-Tag:noindex
X-PUBLISHED-TTL:PT1H
BEGIN:VTIMEZONE
TZID:America/New_York
BEGIN:DAYLIGHT
TZOFFSETFROM:-0500
TZOFFSETTO:-0400
TZNAME:EDT
DTSTART:20220313T070000
END:DAYLIGHT
BEGIN:STANDARD
TZOFFSETFROM:-0400
TZOFFSETTO:-0500
TZNAME:EST
DTSTART:20221106T060000
END:STANDARD
BEGIN:DAYLIGHT
TZOFFSETFROM:-0500
TZOFFSETTO:-0400
TZNAME:EDT
DTSTART:20230312T070000
END:DAYLIGHT
BEGIN:STANDARD
TZOFFSETFROM:-0400
TZOFFSETTO:-0500
TZNAME:EST
DTSTART:20231105T060000
END:STANDARD
BEGIN:DAYLIGHT
TZOFFSETFROM:-0500
TZOFFSETTO:-0400
TZNAME:EDT
DTSTART:20240310T070000
END:DAYLIGHT
BEGIN:STANDARD
TZOFFSETFROM:-0400
TZOFFSETTO:-0500
TZNAME:EST
DTSTART:20241103T060000
END:STANDARD
BEGIN:DAYLIGHT
TZOFFSETFROM:-0500
TZOFFSETTO:-0400
TZNAME:EDT
DTSTART:20250309T070000
END:DAYLIGHT
BEGIN:STANDARD
TZOFFSETFROM:-0400
TZOFFSETTO:-0500
TZNAME:EST
DTSTART:20251102T060000
END:STANDARD
END:VTIMEZONE
BEGIN:VEVENT
DTSTART;TZID=America/New_York:20240504T100000
DTEND;TZID=America/New_York:20240504T160000
DTSTAMP:20260419T131657
CREATED:20240429T184645Z
LAST-MODIFIED:20240429T194442Z
UID:10000685-1714816800-1714838400@arlpost139.com
SUMMARY:The 3rd Annual Women Veteran Conference
DESCRIPTION:View Flyer here: Women Vet Conference \nThis is a women only event hosted by American Legion Post 177 in Fairfax\, VA. \nTopics include: \n\nWomen Veteran Health and how the VA can help\nHow to file a VA claim\nHistory of women in the military\nEducation benefits for the veteran and her family\nTackling homelessness for the female veteran\nPTSD & MST\n\n 
URL:https://arlpost139.com/event/the-3rd-annual-women-veteran-conference/
LOCATION:American Legion Post 177\, 3939 Oak St.\, Fairfax\, Virginia\, 22030
END:VEVENT
BEGIN:VEVENT
DTSTART;TZID=America/New_York:20240427T160000
DTEND;TZID=America/New_York:20240427T190000
DTSTAMP:20260419T131657
CREATED:20240423T004333Z
LAST-MODIFIED:20240423T004333Z
UID:10000684-1714233600-1714244400@arlpost139.com
SUMMARY:Open House
DESCRIPTION:The Arlington American Legion Post 139 is hosting an open house on April 27\, 2024 from 4 to 7. The post recently completed significant redevelopment in partnership with Arlington Partnership for Affordable Housing. The Post has been completely redesigned inside and out with an updated\, modern meeting and activity room with state-of-the-art audio/visual equipment that can accommodate 85 guests. For our members\, Sons of the American Legion and auxiliary members\, the post has new Electronic gaming machines.\n\nWe will have pizza and grill items to enjoy with various sides.  Please join us for a while to meet post members\, view artwork on display from veterans\, music by local artists and much more
URL:https://arlpost139.com/event/open-house/
LOCATION:American Legion Post 139\, 3445 Washington Blvd\, Arlington\, VA\, 22201\, United States
END:VEVENT
BEGIN:VEVENT
DTSTART;TZID=America/New_York:20240424T190000
DTEND;TZID=America/New_York:20240424T210000
DTSTAMP:20260419T131657
CREATED:20240423T000033Z
LAST-MODIFIED:20240429T190708Z
UID:10000670-1713985200-1713992400@arlpost139.com
SUMMARY:General Membership Meeting
DESCRIPTION:American Legion Post 139 – 3445 Washington Blvd\, Arlington\n\n\nThe General Membership Meeting (GMM) is held the last Wednesday of each month. All members of American Legion Post 139 are encouraged to attend. \n\nIf you would like to bring a topic of discussion to the general membership\, in order to allow time for vetting of the topic\, all new agenda are due to the Commander no later than one week prior to the meeting. \n\nAs a reminder to our new members or those that have not visited the Post since remodel\, the street address is 3445 Washington Blvd\, Arlington\, Virginia 22201 and the main entrance is right next to the exterior flagpole. \nParking at the Post is very limited so members are encouraged to find street parking and plan accordingly.
URL:https://arlpost139.com/event/general-membership-meeting/2024-04-24/
LOCATION:American Legion Post 139\, 3445 Washington Blvd\, Arlington\, VA\, 22201\, United States
END:VEVENT
BEGIN:VEVENT
DTSTART;TZID=America/New_York:20231025T190000
DTEND;TZID=America/New_York:20231025T210000
DTSTAMP:20260419T131657
CREATED:20231001T163428Z
LAST-MODIFIED:20240124T200403Z
UID:10000668-1698260400-1698267600@arlpost139.com
SUMMARY:All Membership Meeting
DESCRIPTION:Thanks to all of you who attended our last meeting on Friday\, September 29th. We will have our next all membership meeting on Wednesday\, October 25th\, 2023 at 19:00. \nFor those who were unable to attend the last meeting or have yet to visit the new post\, the street address is 3445 Washington Blvd\, Arlington\, Virginia 22201 and the main entrance is right next to the exterior flagpole. \nThe post has a very limited amount of parking in the basement of the building. We will have a representative at the entrance to the garage beginning around 18:30 to allow access for attendees of the meeting. Once all our allocated spaces are filled\, we will pull the representative and place a sign encouraging additional members to park at any available street parking or across the street at the George Mason University\, Arlington Campus\, parking lot.
URL:https://arlpost139.com/event/sample-event/
LOCATION:American Legion Post 139\, 3445 Washington Blvd\, Arlington\, VA\, 22201\, United States
CATEGORIES:Featured Event
ATTACH;FMTTYPE=image/png:https://arlpost139.com/wp-content/uploads/2023/10/arl-event-image.png
END:VEVENT
END:VCALENDAR